BEGIN:VCALENDAR
VERSION:2.0
PRODID:-//Mirador Del Segrià S.l - ECPv6.15.20//NONSGML v1.0//EN
CALSCALE:GREGORIAN
METHOD:PUBLISH
X-WR-CALNAME:Mirador Del Segrià S.l
X-ORIGINAL-URL:https://miradordelsegria.com
X-WR-CALDESC:Eventos para Mirador Del Segrià S.l
REFRESH-INTERVAL;VALUE=DURATION:PT1H
X-Robots-Tag:noindex
X-PUBLISHED-TTL:PT1H
BEGIN:VTIMEZONE
TZID:UTC
BEGIN:STANDARD
TZOFFSETFROM:+0000
TZOFFSETTO:+0000
TZNAME:UTC
DTSTART:20230101T000000
END:STANDARD
END:VTIMEZONE
BEGIN:VEVENT
DTSTART;TZID=UTC:20240611T080000
DTEND;TZID=UTC:20240611T123000
DTSTAMP:20260423T215753
CREATED:20240520T095942Z
LAST-MODIFIED:20240822T090715Z
UID:384-1718092800-1718109000@miradordelsegria.com
SUMMARY:Taller de cuina
DESCRIPTION:Este viernes te invitamos a un emocionante taller de cocina! Aprenderemos a preparar deliciosos chocolates con bastones en un ambiente amigable y acogedor.
URL:https://miradordelsegria.com/event/taller-de-cuina-2/
LOCATION:Lleida
ATTACH;FMTTYPE=image/png:https://miradordelsegria.com/wp-content/uploads/2024/05/11.png
ORGANIZER;CN="Resid%C3%A8ncia Mirador del Segri%C3%A0":MAILTO:residenciamiradorsegria@gmail.com
END:VEVENT
END:VCALENDAR