BEGIN:VCALENDAR
VERSION:2.0
PRODID:-//Mirador Del Segrià S.l - ECPv6.15.20//NONSGML v1.0//EN
CALSCALE:GREGORIAN
METHOD:PUBLISH
X-WR-CALNAME:Mirador Del Segrià S.l
X-ORIGINAL-URL:https://miradordelsegria.com
X-WR-CALDESC:Eventos para Mirador Del Segrià S.l
REFRESH-INTERVAL;VALUE=DURATION:PT1H
X-Robots-Tag:noindex
X-PUBLISHED-TTL:PT1H
BEGIN:VTIMEZONE
TZID:UTC
BEGIN:STANDARD
TZOFFSETFROM:+0000
TZOFFSETTO:+0000
TZNAME:UTC
DTSTART:20230101T000000
END:STANDARD
END:VTIMEZONE
BEGIN:VEVENT
DTSTART;TZID=UTC:20240717T000000
DTEND;TZID=UTC:20240717T235959
DTSTAMP:20260423T202932
CREATED:20240621T095617Z
LAST-MODIFIED:20240822T090639Z
UID:420-1721174400-1721260799@miradordelsegria.com
SUMMARY:Sortida a les piscines.
DESCRIPTION:Hola a tots! \nEstem encantats d’invitar-vos a una relaxant i divertida sortida a les piscines per prendre una beguda junts. Veniu a gaudir d’un dia refrescant en bona companyia\, on podreu nedar i després relaxar-vos amb una beguda refrescant al sol. \nÉs l’oportunitat perfecta per desconnectar\, compartir rialles i converses amb amics i familiars\, i gaudir de l’ambient estiuenc. Tant si us ve de gust un refresc\, un suc natural o una beguda especial\, tenim alguna cosa per a tots els gustos. \nNo us ho perdeu\, aquesrta sortida a la piscina acompanyat d’una bona beguda és la manera ideal de gaudir de l’estiu! Us esperem amb moltes ganes de passar una estona fantàstica junts!
URL:https://miradordelsegria.com/event/sortida-a-les-piscines/
LOCATION:Piscines Municipals Rosellò\, Av. Esports\, s/n.\, Rosselló\, Lleida\, 25124
ATTACH;FMTTYPE=image/jpeg:https://miradordelsegria.com/wp-content/uploads/2024/06/sortida-piscines.pdf-e1718963489505.jpg
END:VEVENT
END:VCALENDAR