BEGIN:VCALENDAR
VERSION:2.0
PRODID:-//Mirador Del Segrià S.l - ECPv6.15.20//NONSGML v1.0//EN
CALSCALE:GREGORIAN
METHOD:PUBLISH
X-WR-CALNAME:Mirador Del Segrià S.l
X-ORIGINAL-URL:https://miradordelsegria.com
X-WR-CALDESC:Eventos para Mirador Del Segrià S.l
REFRESH-INTERVAL;VALUE=DURATION:PT1H
X-Robots-Tag:noindex
X-PUBLISHED-TTL:PT1H
BEGIN:VTIMEZONE
TZID:UTC
BEGIN:STANDARD
TZOFFSETFROM:+0000
TZOFFSETTO:+0000
TZNAME:UTC
DTSTART:20230101T000000
END:STANDARD
END:VTIMEZONE
BEGIN:VEVENT
DTSTART;TZID=UTC:20240730T153000
DTEND;TZID=UTC:20240730T190000
DTSTAMP:20260423T184605
CREATED:20240716T134011Z
LAST-MODIFIED:20240716T134012Z
UID:460-1722353400-1722366000@miradordelsegria.com
SUMMARY:Celebració aniversaris
DESCRIPTION:Hola a tots! \nEns omple d’alegria anunciar la nostra propera activitat\, Celebració d’Aniversaris\, un esdeveniment especial pensat per compartir moments inoblidables amb els nostres éssers estimats. Volem que aquest dia sigui una festa plena d’afecte\, rialles i records meravellosos. \nVeniu i gaudiu d’una tarda plena de música\, jocs\, menjar deliciós i\, per descomptat\, moltes sorpreses. No importa l’edat\, el que importa és l’esperit jove i les ganes de passar-ho bé en la millor companyia. \nPorteu el vostre millor somriure i prepareu els vostres cors per a una celebració que quedarà gravada en la nostra memòria per sempre! Ens veiem aviat per celebrar junts la vida i la felicitat!
URL:https://miradordelsegria.com/event/celebracio-aniversaris/
LOCATION:Lleida
ATTACH;FMTTYPE=image/png:https://miradordelsegria.com/wp-content/uploads/2024/07/celebracio.png
ORGANIZER;CN="Resid%C3%A8ncia Mirador del Segri%C3%A0":MAILTO:residenciamiradorsegria@gmail.com
END:VEVENT
END:VCALENDAR