BEGIN:VCALENDAR
VERSION:2.0
PRODID:-//Mirador Del Segrià S.l - ECPv6.15.20//NONSGML v1.0//EN
CALSCALE:GREGORIAN
METHOD:PUBLISH
X-ORIGINAL-URL:https://miradordelsegria.com
X-WR-CALDESC:Eventos para Mirador Del Segrià S.l
REFRESH-INTERVAL;VALUE=DURATION:PT1H
X-Robots-Tag:noindex
X-PUBLISHED-TTL:PT1H
BEGIN:VTIMEZONE
TZID:UTC
BEGIN:STANDARD
TZOFFSETFROM:+0000
TZOFFSETTO:+0000
TZNAME:UTC
DTSTART:20230101T000000
END:STANDARD
END:VTIMEZONE
BEGIN:VEVENT
DTSTART;TZID=UTC:20241004T173000
DTEND;TZID=UTC:20241004T190000
DTSTAMP:20260423T152615
CREATED:20240918T133204Z
LAST-MODIFIED:20240918T133205Z
UID:503-1728063000-1728068400@miradordelsegria.com
SUMMARY:Tarda de Bingo en Família a El Mirador de Segrià!
DESCRIPTION:Us convidem a passar una tarda especial amb nosaltres aquest dilluns 4\, a les 17:30 h\, per celebrar el Dia de la Gent Gran. Porteu a la família i prepareu-vos per a una sessió plena de diversió i premis amb el nostre Bingo familiar. Serà una oportunitat perfecta per a compartir\, riure i potser fins i tot guanyar! \nEns encantarà veure’t i celebrar junts aquest dia tan especial!
URL:https://miradordelsegria.com/event/tarda-de-bingo-en-familia-a-el-mirador-de-segria/
LOCATION:Lleida
ATTACH;FMTTYPE=image/png:https://miradordelsegria.com/wp-content/uploads/2024/09/bingo-amb-familia.png
END:VEVENT
END:VCALENDAR