BEGIN:VCALENDAR
VERSION:2.0
PRODID:-//Mirador Del Segrià S.l - ECPv6.15.20//NONSGML v1.0//EN
CALSCALE:GREGORIAN
METHOD:PUBLISH
X-ORIGINAL-URL:https://miradordelsegria.com
X-WR-CALDESC:Eventos para Mirador Del Segrià S.l
REFRESH-INTERVAL;VALUE=DURATION:PT1H
X-Robots-Tag:noindex
X-PUBLISHED-TTL:PT1H
BEGIN:VTIMEZONE
TZID:UTC
BEGIN:STANDARD
TZOFFSETFROM:+0000
TZOFFSETTO:+0000
TZNAME:UTC
DTSTART:20230101T000000
END:STANDARD
END:VTIMEZONE
BEGIN:VEVENT
DTSTART;TZID=UTC:20241025T000000
DTEND;TZID=UTC:20241025T235900
DTSTAMP:20260423T152629
CREATED:20240918T132636Z
LAST-MODIFIED:20240918T133349Z
UID:497-1729814400-1729900740@miradordelsegria.com
SUMMARY:Festa d'Aniversari a El Mirador de Segrià!
DESCRIPTION:Aquest divendres 25 celebrem un any més de vida\, d’amistats i de moments compartits a El Mirador de Segrià. Volem que aquest dia sigui molt especial\, així que us convidem a tots a unir-vos a la festa d’aniversari amb pastís\, música i molt bona companyia! \n  \nEsperem veure’t allà per celebrar junts!
URL:https://miradordelsegria.com/event/festa-daniversari-a-el-mirador-de-segria/
LOCATION:Lleida
ATTACH;FMTTYPE=image/png:https://miradordelsegria.com/wp-content/uploads/2024/09/aniversari.png
END:VEVENT
END:VCALENDAR