BEGIN:VCALENDAR
VERSION:2.0
PRODID:-//Mirador Del Segrià S.l - ECPv6.15.20//NONSGML v1.0//EN
CALSCALE:GREGORIAN
METHOD:PUBLISH
X-ORIGINAL-URL:https://miradordelsegria.com
X-WR-CALDESC:Eventos para Mirador Del Segrià S.l
REFRESH-INTERVAL;VALUE=DURATION:PT1H
X-Robots-Tag:noindex
X-PUBLISHED-TTL:PT1H
BEGIN:VTIMEZONE
TZID:UTC
BEGIN:STANDARD
TZOFFSETFROM:+0000
TZOFFSETTO:+0000
TZNAME:UTC
DTSTART:20240101T000000
END:STANDARD
END:VTIMEZONE
BEGIN:VEVENT
DTSTART;TZID=UTC:20250228T170000
DTEND;TZID=UTC:20250228T170000
DTSTAMP:20260421T101510
CREATED:20250120T112021Z
LAST-MODIFIED:20250120T113237Z
UID:521-1740762000-1740762000@miradordelsegria.com
SUMMARY:Celebració d'Aniversaris.
DESCRIPTION:Una tarda de serenor i estima per als nostres padrins. \nA la residència\, volem dedicar un espai especial per compartir moments plens de calma i afecte amb els nostres padrins. Aquesta activitat\, pensada amb tot el cor\, serà una ocasió per reflexionar\, somriure i sentir la calidesa d’estar acompanyats en aquesta etapa tan significativa de la vida. \nAmb música suau\, paraules plenes de tendresa i petits gestos carregats d’amor\, celebrarem el regal de la vida\, tot honrant la saviesa i les vivències que cadascun porta amb si. Una tarda on la pau i l’amor seran els protagonistes\, perquè creiem fermament que cada instant compta i mereix ser viscut amb dignitat i serenor. \nJunts fem que cada moment sigui especial. \n  \n \n 
URL:https://miradordelsegria.com/event/pau-i-amor-padrins/
LOCATION:Lleida
ATTACH;FMTTYPE=image/jpeg:https://miradordelsegria.com/wp-content/uploads/2025/01/aniversari_page-0001-scaled-e1737372685658.jpg
ORGANIZER;CN="Resid%C3%A8ncia Mirador del Segri%C3%A0":MAILTO:residenciamiradorsegria@gmail.com
END:VEVENT
END:VCALENDAR