BEGIN:VCALENDAR
VERSION:2.0
PRODID:-//Mirador Del Segrià S.l - ECPv6.15.20//NONSGML v1.0//EN
CALSCALE:GREGORIAN
METHOD:PUBLISH
X-WR-CALNAME:Mirador Del Segrià S.l
X-ORIGINAL-URL:https://miradordelsegria.com
X-WR-CALDESC:Eventos para Mirador Del Segrià S.l
REFRESH-INTERVAL;VALUE=DURATION:PT1H
X-Robots-Tag:noindex
X-PUBLISHED-TTL:PT1H
BEGIN:VTIMEZONE
TZID:Europe/Madrid
BEGIN:DAYLIGHT
TZOFFSETFROM:+0100
TZOFFSETTO:+0200
TZNAME:CEST
DTSTART:20240331T010000
END:DAYLIGHT
BEGIN:STANDARD
TZOFFSETFROM:+0200
TZOFFSETTO:+0100
TZNAME:CET
DTSTART:20241027T010000
END:STANDARD
BEGIN:DAYLIGHT
TZOFFSETFROM:+0100
TZOFFSETTO:+0200
TZNAME:CEST
DTSTART:20250330T010000
END:DAYLIGHT
BEGIN:STANDARD
TZOFFSETFROM:+0200
TZOFFSETTO:+0100
TZNAME:CET
DTSTART:20251026T010000
END:STANDARD
BEGIN:DAYLIGHT
TZOFFSETFROM:+0100
TZOFFSETTO:+0200
TZNAME:CEST
DTSTART:20260329T010000
END:DAYLIGHT
BEGIN:STANDARD
TZOFFSETFROM:+0200
TZOFFSETTO:+0100
TZNAME:CET
DTSTART:20261025T010000
END:STANDARD
END:VTIMEZONE
BEGIN:VEVENT
DTSTART;TZID=Europe/Madrid:20250411T160000
DTEND;TZID=Europe/Madrid:20250411T180000
DTSTAMP:20260421T090254
CREATED:20250219T110659Z
LAST-MODIFIED:20250404T134702Z
UID:582-1744387200-1744394400@miradordelsegria.com
SUMMARY:💃 Ballem sardanes🎶
DESCRIPTION:Ens visitarà la Colla Purpurina de Rosselló i ens farà gaudir durant una bona estona.Una tarda plena de ritme\, tradició i germanor amb la nostra ballada de sardanes!📅 Dia: Divendres\, 11 d’abril🕓 Hora: Durant la tarde \n👣 Què hi trobaràs? \n\nSardanes per a tothom amb música en directe.\nUna actuació especial i festiva de la Colla Purpurina de Rosselló.\nUn ambient alegre\, familiar i 100% català.\n\nTant si ja les balles com si només vols mirar i passar-ho bé\, no t’ho pots perdre! La ballada de sardanes t’espera amb els braços oberts.
URL:https://miradordelsegria.com/event/ball-de-sardanes/
LOCATION:Lleida
ATTACH;FMTTYPE=image/jpeg:https://miradordelsegria.com/wp-content/uploads/2025/02/ballada-de-sardanes_page-0001-scaled-e1743608774502.jpg
ORGANIZER;CN="Resid%C3%A8ncia Mirador del Segri%C3%A0":MAILTO:residenciamiradorsegria@gmail.com
END:VEVENT
END:VCALENDAR