BEGIN:VCALENDAR
VERSION:2.0
PRODID:-//Mirador Del Segrià S.l - ECPv6.15.20//NONSGML v1.0//EN
CALSCALE:GREGORIAN
METHOD:PUBLISH
X-ORIGINAL-URL:https://miradordelsegria.com
X-WR-CALDESC:Eventos para Mirador Del Segrià S.l
REFRESH-INTERVAL;VALUE=DURATION:PT1H
X-Robots-Tag:noindex
X-PUBLISHED-TTL:PT1H
BEGIN:VTIMEZONE
TZID:UTC
BEGIN:STANDARD
TZOFFSETFROM:+0000
TZOFFSETTO:+0000
TZNAME:UTC
DTSTART:20240101T000000
END:STANDARD
END:VTIMEZONE
BEGIN:VEVENT
DTSTART;TZID=UTC:20250424T080000
DTEND;TZID=UTC:20250424T170000
DTSTAMP:20260421T085121
CREATED:20250424T141033Z
LAST-MODIFIED:20250424T154716Z
UID:674-1745481600-1745514000@miradordelsegria.com
SUMMARY:🍽️ Dinar popular a l’aire lliure! 🎉
DESCRIPTION:Dinar popular: Celebrarem l’arribada del bon temps fent una barbacoa al jardí
URL:https://miradordelsegria.com/event/dinar-popular/
LOCATION:Lleida
ATTACH;FMTTYPE=image/jpeg:https://miradordelsegria.com/wp-content/uploads/2025/04/dinar-popular_page-0001-scaled-e1745509632212.jpg
END:VEVENT
END:VCALENDAR