BEGIN:VCALENDAR
VERSION:2.0
PRODID:-//Mirador Del Segrià S.l - ECPv6.15.20//NONSGML v1.0//EN
CALSCALE:GREGORIAN
METHOD:PUBLISH
X-ORIGINAL-URL:https://miradordelsegria.com
X-WR-CALDESC:Eventos para Mirador Del Segrià S.l
REFRESH-INTERVAL;VALUE=DURATION:PT1H
X-Robots-Tag:noindex
X-PUBLISHED-TTL:PT1H
BEGIN:VTIMEZONE
TZID:UTC
BEGIN:STANDARD
TZOFFSETFROM:+0000
TZOFFSETTO:+0000
TZNAME:UTC
DTSTART:20240101T000000
END:STANDARD
END:VTIMEZONE
BEGIN:VEVENT
DTSTART;TZID=UTC:20250513T100000
DTEND;TZID=UTC:20250513T100000
DTSTAMP:20260421T085125
CREATED:20250424T134754Z
LAST-MODIFIED:20250424T154329Z
UID:654-1747130400-1747130400@miradordelsegria.com
SUMMARY:🧸 Visita a l'escola bressol 👶
DESCRIPTION:-Visita nens escola bressol: Gaudirem de la visita dels nens i nenes de l’escola bressol realitzant conjuntament una sessió de ioga
URL:https://miradordelsegria.com/event/visita-a-l-escola-bressol/
LOCATION:Lleida
ATTACH;FMTTYPE=image/jpeg:https://miradordelsegria.com/wp-content/uploads/2025/04/visita-escola-bressol_page-0001-scaled-e1745509406975.jpg
END:VEVENT
END:VCALENDAR