BEGIN:VCALENDAR
VERSION:2.0
PRODID:-//Mirador Del Segrià S.l - ECPv6.15.20//NONSGML v1.0//EN
CALSCALE:GREGORIAN
METHOD:PUBLISH
X-WR-CALNAME:Mirador Del Segrià S.l
X-ORIGINAL-URL:https://miradordelsegria.com
X-WR-CALDESC:Eventos para Mirador Del Segrià S.l
REFRESH-INTERVAL;VALUE=DURATION:PT1H
X-Robots-Tag:noindex
X-PUBLISHED-TTL:PT1H
BEGIN:VTIMEZONE
TZID:UTC
BEGIN:STANDARD
TZOFFSETFROM:+0000
TZOFFSETTO:+0000
TZNAME:UTC
DTSTART:20230101T000000
END:STANDARD
END:VTIMEZONE
BEGIN:VEVENT
DTSTART;TZID=UTC:20240520T080000
DTEND;TZID=UTC:20240520T170000
DTSTAMP:20260423T134107
CREATED:20240520T101042Z
LAST-MODIFIED:20240520T101248Z
UID:383-1716192000-1716224400@miradordelsegria.com
SUMMARY:Sortida al mercat y a la cafeteria
DESCRIPTION:¡Te invitamos a una salida especial este viernes! Vamos a visitar el mercado local y luego disfrutaremos de una deliciosa pausa en la cafetería del pueblo. Será una oportunidad perfecta para explorar\, socializar y disfrutar de un día lleno de sorpresas. ¡No te lo pierdas!
URL:https://miradordelsegria.com/event/sortida-al-mercat-y-a-la-cafeteria/
ATTACH;FMTTYPE=image/png:https://miradordelsegria.com/wp-content/uploads/2024/05/18.png
ORGANIZER;CN="Resid%C3%A8ncia Mirador del Segri%C3%A0":MAILTO:residenciamiradorsegria@gmail.com
END:VEVENT
BEGIN:VEVENT
DTSTART;TZID=UTC:20240514T100000
DTEND;TZID=UTC:20240514T230000
DTSTAMP:20260423T134107
CREATED:20240426T085731Z
LAST-MODIFIED:20240822T090854Z
UID:331-1715680800-1715727600@miradordelsegria.com
SUMMARY:Taller de Cuina
DESCRIPTION:
URL:https://miradordelsegria.com/event/taller-de-cuina/
ATTACH;FMTTYPE=image/png:https://miradordelsegria.com/wp-content/uploads/2024/04/123123.png
END:VEVENT
BEGIN:VEVENT
DTSTART;TZID=UTC:20240506T000000
DTEND;TZID=UTC:20240506T235959
DTSTAMP:20260423T134107
CREATED:20240426T090532Z
LAST-MODIFIED:20240822T090900Z
UID:339-1714953600-1715039999@miradordelsegria.com
SUMMARY:BINGO
DESCRIPTION:¡Únete a nosotros este viernes  para una tarde emocionante de bingo! Con una compañía amigable\, será una experiencia inolvidable. ¡No te lo pierdas!
URL:https://miradordelsegria.com/event/bingo/
ATTACH;FMTTYPE=image/png:https://miradordelsegria.com/wp-content/uploads/2024/04/4234234234.png
ORGANIZER;CN="Resid%C3%A8ncia Mirador del Segri%C3%A0":MAILTO:residenciamiradorsegria@gmail.com
END:VEVENT
BEGIN:VEVENT
DTSTART;TZID=UTC:20240328T150000
DTEND;TZID=UTC:20240328T190000
DTSTAMP:20260423T134107
CREATED:20240301T160419Z
LAST-MODIFIED:20240822T090907Z
UID:315-1711638000-1711652400@miradordelsegria.com
SUMMARY:Celebració aniversaris
DESCRIPTION:
URL:https://miradordelsegria.com/event/celebracio-aniversaris-2/
ATTACH;FMTTYPE=image/png:https://miradordelsegria.com/wp-content/uploads/2024/03/Captura-de-pantalla-2024-03-01-170013.png
END:VEVENT
BEGIN:VEVENT
DTSTART;TZID=UTC:20240318T150000
DTEND;TZID=UTC:20240318T190000
DTSTAMP:20260423T134107
CREATED:20240301T160729Z
LAST-MODIFIED:20240822T090922Z
UID:317-1710774000-1710788400@miradordelsegria.com
SUMMARY:Taller de cuina\, crema de Sant Josep
DESCRIPTION:Preparació de postre per léndemà
URL:https://miradordelsegria.com/event/taller-de-cuina-crema-de-sant-josep/
ATTACH;FMTTYPE=image/png:https://miradordelsegria.com/wp-content/uploads/2024/03/taller-de-cuina-crema-sant-josep-e1709564375990.png
END:VEVENT
END:VCALENDAR