BEGIN:VCALENDAR
VERSION:2.0
PRODID:-//Mirador Del Segrià S.l - ECPv6.15.20//NONSGML v1.0//EN
CALSCALE:GREGORIAN
METHOD:PUBLISH
X-WR-CALNAME:Mirador Del Segrià S.l
X-ORIGINAL-URL:https://miradordelsegria.com
X-WR-CALDESC:Eventos para Mirador Del Segrià S.l
REFRESH-INTERVAL;VALUE=DURATION:PT1H
X-Robots-Tag:noindex
X-PUBLISHED-TTL:PT1H
BEGIN:VTIMEZONE
TZID:UTC
BEGIN:STANDARD
TZOFFSETFROM:+0000
TZOFFSETTO:+0000
TZNAME:UTC
DTSTART:20230101T000000
END:STANDARD
END:VTIMEZONE
BEGIN:VEVENT
DTSTART;TZID=UTC:20240909T153000
DTEND;TZID=UTC:20240909T170000
DTSTAMP:20260423T152345
CREATED:20240814T075515Z
LAST-MODIFIED:20240822T090412Z
UID:487-1725895800-1725901200@miradordelsegria.com
SUMMARY:TALLER SMOOTHIES
DESCRIPTION:Ens complau anunciar que el proper dilluns\, 9 de setembre\, a les 15:00 h\, es durà a terme un taller de smoothies a la Residència. Aquest taller està pensat perquè els nostres residents puguin gaudir d’una tarda diferent i saludable\, aprenent a preparar deliciosos batuts amb fruites i altres ingredients nutritius. \nEl taller serà una oportunitat per descobrir noves receptes\, compartir una estona agradable i degustar diferents combinacions de smoothies que es poden gaudir durant el berenar. \nUs animem a tots a participar-hi i a passar una tarda refrescant i divertida amb nosaltres!
URL:https://miradordelsegria.com/event/taller-smoothies/
LOCATION:Lleida
ATTACH;FMTTYPE=image/png:https://miradordelsegria.com/wp-content/uploads/2024/08/tallers.png
END:VEVENT
BEGIN:VEVENT
DTSTART;TZID=UTC:20240913T150000
DTEND;TZID=UTC:20240913T190000
DTSTAMP:20260423T152345
CREATED:20240814T074704Z
LAST-MODIFIED:20240822T090306Z
UID:481-1726239600-1726254000@miradordelsegria.com
SUMMARY:BINGO
DESCRIPTION:Ens complau anunciar que el proper 13 de setembre es durà a terme una divertida activitat de bingo a la Residència Mirador del Segrià. Aquesta activitat està pensada per oferir als nostres residents un moment d´entreteniment i convivència\, on podran gaudir d´un ambient alegre i distès. \nEl bingo és una excel·lent oportunitat perquè tots participin\, es diverteixin i comparteixin una estona amena amb els seus companys. A més\, hi haurà petits premis per als guanyadors\, cosa que afegirà un toc extra d’emoció a la jornada. \nConvidem tots els nostres residents a unir-se a aquesta activitat ia gaudir d’una tarda plena de rialles i bons moments. Els esperem!
URL:https://miradordelsegria.com/event/bingo-2/
LOCATION:Lleida
ATTACH;FMTTYPE=image/png:https://miradordelsegria.com/wp-content/uploads/2024/08/bingo.png
ORGANIZER;CN="Resid%C3%A8ncia Mirador del Segri%C3%A0":MAILTO:residenciamiradorsegria@gmail.com
END:VEVENT
BEGIN:VEVENT
DTSTART;TZID=UTC:20240921T080000
DTEND;TZID=UTC:20240921T170000
DTSTAMP:20260423T152345
CREATED:20240814T074255Z
LAST-MODIFIED:20240822T090142Z
UID:475-1726905600-1726938000@miradordelsegria.com
SUMMARY:Dia mundial Alzheimer
DESCRIPTION:El proper 21 de setembre\, a la Residència Mirador del Segrià\, ens vam unir a la commemoració del Dia Mundial de l’Alzheimer. Aquesta data\, reconeguda internacionalment\, busca generar consciència sobre aquesta malaltia que afecta milions de persones a tot el món\, així com les seves famílies i cuidadors. \nA la nostra residència\, hem preparat una sèrie d’activitats especials per als nostres residents i les seves famílies\, amb l’objectiu de fomentar la comprensió\, el suport mutu i la reflexió sobre aquesta condició. Serà una jornada plena de moments significatius\, on la participació de tothom serà fonamental per crear un ambient de solidaritat i afecte. \nEls convidem a ser part d’aquest dia tan important on junts podrem aprendre més sobre l’Alzheimer i com podem contribuir a millorar la qualitat de vida dels qui el pateixen.
URL:https://miradordelsegria.com/event/dia-mundial-alzheimer/
LOCATION:Lleida
ATTACH;FMTTYPE=image/png:https://miradordelsegria.com/wp-content/uploads/2024/08/21sept.png
ORGANIZER;CN="Resid%C3%A8ncia Mirador del Segri%C3%A0":MAILTO:residenciamiradorsegria@gmail.com
END:VEVENT
BEGIN:VEVENT
DTSTART;TZID=UTC:20240927T160000
DTEND;TZID=UTC:20240927T190000
DTSTAMP:20260423T152345
CREATED:20240814T075101Z
LAST-MODIFIED:20240822T090053Z
UID:483-1727452800-1727463600@miradordelsegria.com
SUMMARY:Celebració aniversaris
DESCRIPTION:El proper 27 de setembre\, a la Residència Mirador del Segrià\, celebrarem una ocasió molt especial: els aniversaris d’alguns dels nostres estimats residents. Aquesta celebració és una tradició que ens permet compartir moments de joia i felicitat\, reconeixent i homenatjant aquells que compleixen anys durant aquest mes. \nSerà una jornada plena d´emocions\, on els nostres residents podran gaudir d´una tarda agradable en companyia dels seus amics i familiars. Hi haurà música\, pastís i sorpreses preparades amb molt d’afecte per fer d’aquest dia una cosa inoblidable. \nConvidem a tots a unir-se a aquesta celebració ia compartir amb nosaltres l’alegria de festejar un any més a la vida dels nostres residents.
URL:https://miradordelsegria.com/event/celebracio-aniversaris-3/
LOCATION:Lleida
ATTACH;FMTTYPE=image/png:https://miradordelsegria.com/wp-content/uploads/2024/08/festa-aniverari.png
ORGANIZER;CN="Resid%C3%A8ncia Mirador del Segri%C3%A0":MAILTO:residenciamiradorsegria@gmail.com
END:VEVENT
END:VCALENDAR